BEGIN:VCALENDAR
VERSION:2.0
PRODID:-//Fort Wayne Komets//komets.com//EN
CALSCALE:GREGORIAN
BEGIN:VEVENT
UID:https://komets.com/games/2026/04/24/central-division-semifinals-vs-indy
 -fuel-game-1
DTSTAMP:20260420T233940Z
SUMMARY:Central Division Semifinals vs Indy Fuel: Game 1
DTSTART;TZID=Canada/Eastern:20260424T193500
DTEND;TZID=Canada/Eastern:20260424T223500
DESCRIPTION:Indy Fuel at Fort Wayne Komets
LOCATION:Memorial Coliseum\, Fort Wayne\, Indiana
URL;VALUE=URI:https://komets.com/games/2026/04/24/central-division-semifina
 ls-vs-indy-fuel-game-1
END:VEVENT
BEGIN:VEVENT
UID:https://komets.com/games/2026/04/25/central-division-semifinals-vs-indy
 -fuel-game-2
DTSTAMP:20260420T233940Z
SUMMARY:Central Division Semifinals vs. Indy Fuel: Game 2
DTSTART;TZID=Canada/Eastern:20260425T193500
DTEND;TZID=Canada/Eastern:20260425T223500
DESCRIPTION:Indy Fuel at Fort Wayne Komets
LOCATION:Memorial Coliseum\, Fort Wayne\, Indiana
URL;VALUE=URI:https://komets.com/games/2026/04/25/central-division-semifina
 ls-vs-indy-fuel-game-2
END:VEVENT
BEGIN:VEVENT
UID:https://komets.com/games/2026/05/03/central-division-semifinals-vs-indy
 -fuel-game-5
DTSTAMP:20260420T233940Z
SUMMARY:Central Division Semifinals vs Indy Fuel: Game 5
DTSTART;TZID=Canada/Eastern:20260503T170500
DTEND;TZID=Canada/Eastern:20260503T200500
DESCRIPTION:Indy Fuel at Fort Wayne Komets
LOCATION:Memorial Coliseum\, Fort Wayne\, Indiana
URL;VALUE=URI:https://komets.com/games/2026/05/03/central-division-semifina
 ls-vs-indy-fuel-game-5
END:VEVENT
BEGIN:VEVENT
UID:https://komets.com/games/2026/05/06/central-division-semifinals-vs-indy
 -fuel-game-7
DTSTAMP:20260420T233940Z
SUMMARY:Central Division Semifinals vs Indy Fuel: Game 7
DTSTART;TZID=Canada/Eastern:20260506T190500
DTEND;TZID=Canada/Eastern:20260506T220500
DESCRIPTION:Indy Fuel at Fort Wayne Komets
LOCATION:Memorial Coliseum\, Fort Wayne\, Indiana
URL;VALUE=URI:https://komets.com/games/2026/05/06/central-division-semifina
 ls-vs-indy-fuel-game-7
END:VEVENT
END:VCALENDAR
